BEGIN:VCALENDAR
VERSION:2.0
PRODID:-//www.wwvdn.org//NONSGML kigkonsult.se iCalcreator 2.30.10//
CALSCALE:GREGORIAN
METHOD:PUBLISH
UID:50c249a0-5058-45c5-9010-3f7799a2957b
X-WR-CALDESC:Columbia County Get together on May 27th at the Park.  5:30 PM
  crafts and pizza.
X-WR-RELCALID:c2add5f3809f038f88d7d09fc3f31e7f
X-WR-TIMEZONE:America/Los_Angeles
BEGIN:VTIMEZONE
TZID:America/Los_Angeles
BEGIN:STANDARD
TZNAME:PST
DTSTART:20211107T020000
TZOFFSETFROM:-0700
TZOFFSETTO:-0800
RDATE:20221106T020000
RDATE:20231105T020000
END:STANDARD
BEGIN:DAYLIGHT
TZNAME:PDT
DTSTART:20220313T020000
TZOFFSETFROM:-0800
TZOFFSETTO:-0700
RDATE:20230312T020000
END:DAYLIGHT
END:VTIMEZONE
BEGIN:VEVENT
UID:0cca2e9d-0dcf-4a68-a557-af0dfcc58aed
DTSTAMP:20260420T101211Z
DESCRIPTION:Columbia County Get together on May 27th at the Park.  5:30 PM 
 crafts and pizza.
DTSTART;TZID=America/Los_Angeles:20220527T173000
DTEND;TZID=America/Los_Angeles:20220527T183000
LOCATION:
SUMMARY:Columbia County P2P Meeting
END:VEVENT
END:VCALENDAR
