BEGIN:VCALENDAR
VERSION:2.0
PRODID:-//www.wwvdn.org//NONSGML kigkonsult.se iCalcreator 2.30.10//
CALSCALE:GREGORIAN
METHOD:PUBLISH
UID:c985a312-af57-4e6d-9401-bd7397c2d136
X-WR-CALDESC:Support meeting just for moms who speak Spanish. RSVP to Ysabe
 l.\n\n
X-WR-RELCALID:8fbe5b6cd7571d17c5395f625c300d6b
X-WR-TIMEZONE:America/Los_Angeles
BEGIN:VTIMEZONE
TZID:America/Los_Angeles
BEGIN:STANDARD
TZNAME:PST
DTSTART:20201101T020000
TZOFFSETFROM:-0700
TZOFFSETTO:-0800
RDATE:20211107T020000
END:STANDARD
BEGIN:DAYLIGHT
TZNAME:PDT
DTSTART:20210314T020000
TZOFFSETFROM:-0800
TZOFFSETTO:-0700
RDATE:20220313T020000
END:DAYLIGHT
END:VTIMEZONE
BEGIN:VEVENT
UID:c8ba5aa2-33d0-4b26-95cf-357bba868c59
DTSTAMP:20260421T083957Z
DESCRIPTION:Support meeting just for moms who speak Spanish. RSVP to Ysabel
 .\n\n
DTSTART;TZID=America/Los_Angeles:20210409T130000
DTEND;TZID=America/Los_Angeles:20210409T140000
LOCATION:Contact Ysabel for details
SUMMARY:Mamas Especiales
END:VEVENT
END:VCALENDAR
