BEGIN:VCALENDAR
VERSION:2.0
PRODID:-//www.wwvdn.org//NONSGML kigkonsult.se iCalcreator 2.30.10//
CALSCALE:GREGORIAN
METHOD:PUBLISH
UID:f297d5c2-4b38-4ec9-af7b-844bd0984478
X-WR-CALDESC:Enjoy fresh air and companionship with a brisk walk each weekd
 ay morning.\nCovid-19 precautions must be followed for the current Phase.
X-WR-RELCALID:2b483f73c77b5b6f5d30238efe9cda1c
X-WR-TIMEZONE:America/Los_Angeles
BEGIN:VTIMEZONE
TZID:America/Los_Angeles
BEGIN:STANDARD
TZNAME:PST
DTSTART:20201101T020000
TZOFFSETFROM:-0700
TZOFFSETTO:-0800
RDATE:20211107T020000
RDATE:20221106T020000
END:STANDARD
BEGIN:DAYLIGHT
TZNAME:PDT
DTSTART:20210314T020000
TZOFFSETFROM:-0800
TZOFFSETTO:-0700
RDATE:20220313T020000
END:DAYLIGHT
END:VTIMEZONE
BEGIN:VEVENT
UID:b7e10e21-b0b8-46c5-894f-56f6b0f2d217
DTSTAMP:20260420T231656Z
DESCRIPTION:Enjoy fresh air and companionship with a brisk walk each weekda
 y morning.\nCovid-19 precautions must be followed for the current Phase.
DTSTART;TZID=America/Los_Angeles:20210520T074500
DTEND;TZID=America/Los_Angeles:20210520T083000
LOCATION:Murr Park (corner of Abbott & Fern)
SUMMARY:Walk with ME (Mamas Especiales)
END:VEVENT
END:VCALENDAR
