BEGIN:VCALENDAR
VERSION:2.0
PRODID:-//www.wwvdn.org//NONSGML kigkonsult.se iCalcreator 2.30.10//
CALSCALE:GREGORIAN
METHOD:PUBLISH
UID:d61108be-0615-4966-b99b-be154112ee2d
X-WR-CALDESC:Enjoy fresh air and companionship with a brisk walk each weekd
 ay morning.\nCovid-19 precautions must be followed for the current Phase.
X-WR-RELCALID:9eba3607ea49e2d82a0e88b1835cb60e
X-WR-TIMEZONE:America/Los_Angeles
BEGIN:VTIMEZONE
TZID:America/Los_Angeles
BEGIN:STANDARD
TZNAME:PST
DTSTART:20201101T020000
TZOFFSETFROM:-0700
TZOFFSETTO:-0800
RDATE:20211107T020000
RDATE:20221106T020000
END:STANDARD
BEGIN:DAYLIGHT
TZNAME:PDT
DTSTART:20210314T020000
TZOFFSETFROM:-0800
TZOFFSETTO:-0700
RDATE:20220313T020000
END:DAYLIGHT
END:VTIMEZONE
BEGIN:VEVENT
UID:48828ad9-0ca4-4f7d-bfa3-8beddada5603
DTSTAMP:20260423T125833Z
DESCRIPTION:Enjoy fresh air and companionship with a brisk walk each weekda
 y morning.\nCovid-19 precautions must be followed for the current Phase.
DTSTART;TZID=America/Los_Angeles:20210602T074500
DTEND;TZID=America/Los_Angeles:20210602T083000
LOCATION:Murr Park (corner of Abbott & Fern)
SUMMARY:Walk with ME (Mamas Especiales)
END:VEVENT
END:VCALENDAR
