BEGIN:VCALENDAR
VERSION:2.0
PRODID:-//www.wwvdn.org//NONSGML kigkonsult.se iCalcreator 2.30.10//
CALSCALE:GREGORIAN
METHOD:PUBLISH
UID:7ec0f912-4c8b-4de2-b2a4-2620e3f85ece
X-WR-CALDESC:
X-WR-RELCALID:b08ad13ab18c8f6575be20bc53510018
X-WR-TIMEZONE:America/Los_Angeles
BEGIN:VTIMEZONE
TZID:America/Los_Angeles
BEGIN:STANDARD
TZNAME:PST
DTSTART:20201101T020000
TZOFFSETFROM:-0700
TZOFFSETTO:-0800
RDATE:20211107T020000
RDATE:20221106T020000
END:STANDARD
BEGIN:DAYLIGHT
TZNAME:PDT
DTSTART:20210314T020000
TZOFFSETFROM:-0800
TZOFFSETTO:-0700
RDATE:20220313T020000
END:DAYLIGHT
END:VTIMEZONE
BEGIN:VEVENT
UID:21a2e635-477d-4a19-ae4e-c191c9e2bf34
DTSTAMP:20260421T100449Z
DESCRIPTION:
DTSTART;TZID=America/Los_Angeles:20210603T180000
DTEND;TZID=America/Los_Angeles:20210603T193000
LOCATION:Deadline to Register has been extended to May 27
SUMMARY:Whiffle Ball
END:VEVENT
END:VCALENDAR
