BEGIN:VCALENDAR
VERSION:2.0
PRODID:-//www.wwvdn.org//NONSGML kigkonsult.se iCalcreator 2.30.10//
CALSCALE:GREGORIAN
METHOD:PUBLISH
UID:3cf3cb4a-cbbc-4f03-8be0-2c3da839da95
X-WR-CALDESC:Enjoy fresh air and companionship with a brisk walk each weekd
 ay morning.\nCovid-19 precautions must be followed for the current Phase.
X-WR-RELCALID:fe1e36a1d7b82b35d99d00774680f0a5
X-WR-TIMEZONE:America/Los_Angeles
BEGIN:VTIMEZONE
TZID:America/Los_Angeles
BEGIN:STANDARD
TZNAME:PST
DTSTART:20201101T020000
TZOFFSETFROM:-0700
TZOFFSETTO:-0800
RDATE:20211107T020000
RDATE:20221106T020000
END:STANDARD
BEGIN:DAYLIGHT
TZNAME:PDT
DTSTART:20210314T020000
TZOFFSETFROM:-0800
TZOFFSETTO:-0700
RDATE:20220313T020000
END:DAYLIGHT
END:VTIMEZONE
BEGIN:VEVENT
UID:af1ea757-ad13-41fa-8723-3444393ae1c8
DTSTAMP:20260419T195257Z
DESCRIPTION:Enjoy fresh air and companionship with a brisk walk each weekda
 y morning.\nCovid-19 precautions must be followed for the current Phase.
DTSTART;TZID=America/Los_Angeles:20210607T074500
DTEND;TZID=America/Los_Angeles:20210607T083000
LOCATION:Murr Park (corner of Abbott & Fern)
SUMMARY:Walk with ME (Mamas Especiales)
END:VEVENT
END:VCALENDAR
