BEGIN:VCALENDAR
VERSION:2.0
PRODID:-//www.wwvdn.org//NONSGML kigkonsult.se iCalcreator 2.30.10//
CALSCALE:GREGORIAN
METHOD:PUBLISH
UID:d280d102-fd73-407f-afc7-2b1baaea7338
X-WR-CALDESC:
X-WR-RELCALID:24f06821dbae49afc493493c94525b85
X-WR-TIMEZONE:America/Los_Angeles
BEGIN:VTIMEZONE
TZID:America/Los_Angeles
BEGIN:STANDARD
TZNAME:PST
DTSTART:20201101T020000
TZOFFSETFROM:-0700
TZOFFSETTO:-0800
RDATE:20211107T020000
RDATE:20221106T020000
END:STANDARD
BEGIN:DAYLIGHT
TZNAME:PDT
DTSTART:20210314T020000
TZOFFSETFROM:-0800
TZOFFSETTO:-0700
RDATE:20220313T020000
END:DAYLIGHT
END:VTIMEZONE
BEGIN:VEVENT
UID:d918497a-51b5-4e94-8a9d-42b35d556309
DTSTAMP:20260420T084251Z
DESCRIPTION:
DTSTART;TZID=America/Los_Angeles:20210610T180000
DTEND;TZID=America/Los_Angeles:20210610T193000
LOCATION:
SUMMARY:Whiffle Ball
END:VEVENT
END:VCALENDAR
