BEGIN:VCALENDAR
VERSION:2.0
PRODID:-//www.wwvdn.org//NONSGML kigkonsult.se iCalcreator 2.30.10//
CALSCALE:GREGORIAN
METHOD:PUBLISH
UID:9f40daae-0fe6-431a-98fd-accb9282427e
X-WR-CALDESC:Enjoy fresh air and companionship with a brisk walk each weekd
 ay morning.\nCovid-19 precautions must be followed for the current Phase.
X-WR-RELCALID:271b62243e30b0c101f171efd24e8e4e
X-WR-TIMEZONE:America/Los_Angeles
BEGIN:VTIMEZONE
TZID:America/Los_Angeles
BEGIN:STANDARD
TZNAME:PST
DTSTART:20201101T020000
TZOFFSETFROM:-0700
TZOFFSETTO:-0800
RDATE:20211107T020000
RDATE:20221106T020000
END:STANDARD
BEGIN:DAYLIGHT
TZNAME:PDT
DTSTART:20210314T020000
TZOFFSETFROM:-0800
TZOFFSETTO:-0700
RDATE:20220313T020000
END:DAYLIGHT
END:VTIMEZONE
BEGIN:VEVENT
UID:2621c3cb-e1f8-4460-a268-86d2c331c71f
DTSTAMP:20260420T153741Z
DESCRIPTION:Enjoy fresh air and companionship with a brisk walk each weekda
 y morning.\nCovid-19 precautions must be followed for the current Phase.
DTSTART;TZID=America/Los_Angeles:20210618T074500
DTEND;TZID=America/Los_Angeles:20210618T083000
LOCATION:Murr Park (corner of Abbott & Fern)
SUMMARY:Walk with ME (Mamas Especiales)
END:VEVENT
END:VCALENDAR
