BEGIN:VCALENDAR
VERSION:2.0
PRODID:-//www.wwvdn.org//NONSGML kigkonsult.se iCalcreator 2.30.10//
CALSCALE:GREGORIAN
METHOD:PUBLISH
UID:83d05693-aa12-4729-abd8-15f010f089a1
X-WR-CALDESC:Support meeting just for moms who speak Spanish. RSVP to Ysabe
 l.\n\n
X-WR-RELCALID:3c980afe9aaad19bbef3d55f22ffdc95
X-WR-TIMEZONE:America/Los_Angeles
BEGIN:VTIMEZONE
TZID:America/Los_Angeles
BEGIN:STANDARD
TZNAME:PST
DTSTART:20201101T020000
TZOFFSETFROM:-0700
TZOFFSETTO:-0800
RDATE:20211107T020000
RDATE:20221106T020000
END:STANDARD
BEGIN:DAYLIGHT
TZNAME:PDT
DTSTART:20210314T020000
TZOFFSETFROM:-0800
TZOFFSETTO:-0700
RDATE:20220313T020000
END:DAYLIGHT
END:VTIMEZONE
BEGIN:VEVENT
UID:822f2c0a-b2a7-4695-b587-d38b146039ba
DTSTAMP:20260420T161524Z
DESCRIPTION:Support meeting just for moms who speak Spanish. RSVP to Ysabel
 .\n\n
DTSTART;TZID=America/Los_Angeles:20210625T130000
DTEND;TZID=America/Los_Angeles:20210625T140000
LOCATION:Contact Ysabel for details
SUMMARY:Mamas Especiales
END:VEVENT
END:VCALENDAR
