BEGIN:VCALENDAR
VERSION:2.0
PRODID:-//www.wwvdn.org//NONSGML kigkonsult.se iCalcreator 2.30.10//
CALSCALE:GREGORIAN
METHOD:PUBLISH
UID:3e7c1add-0ff4-469c-b555-86843472cd20
X-WR-CALDESC:Camp Director: Angie Witt\nDates: August 23 - 27\nTime: 9:00 a
 m to noon\nAges: School aged (5 thru 21)\nCost: $50 for the one-week sessi
 on (contact Angie if you need a scholarship)\n\nSummer Camp is designed sp
 ecifically for kids with mild to moderate special needs and offers crafts\
 , games\, snacks\, guest visits with firefighters\, 4-H\, a walk to Fort W
 alla Walla Museum\, building rockets\, making race cars and many other act
 ivities.\n\nIf you feel your child requires 1 on 1 assistance\, please con
 tact Angie Witt at 509-540-9880.\n\nSummer Camp sponsored by: United Way
X-WR-RELCALID:e27a194156cae68f793b7bc8f9beb39f
X-WR-TIMEZONE:America/Los_Angeles
BEGIN:VTIMEZONE
TZID:America/Los_Angeles
BEGIN:STANDARD
TZNAME:PST
DTSTART:20201101T020000
TZOFFSETFROM:-0700
TZOFFSETTO:-0800
RDATE:20211107T020000
RDATE:20221106T020000
END:STANDARD
BEGIN:DAYLIGHT
TZNAME:PDT
DTSTART:20210314T020000
TZOFFSETFROM:-0800
TZOFFSETTO:-0700
RDATE:20220313T020000
END:DAYLIGHT
END:VTIMEZONE
BEGIN:VEVENT
UID:8631e688-88ea-49dc-853e-59c447078611
DTSTAMP:20260421T202326Z
DESCRIPTION:Camp Director: Angie Witt\nDates: August 23 - 27\nTime: 9:00 am
  to noon\nAges: School aged (5 thru 21)\nCost: $50 for the one-week sessio
 n (contact Angie if you need a scholarship)\n\nSummer Camp is designed spe
 cifically for kids with mild to moderate special needs and offers crafts\,
  games\, snacks\, guest visits with firefighters\, 4-H\, a walk to Fort Wa
 lla Walla Museum\, building rockets\, making race cars and many other acti
 vities.\n\nIf you feel your child requires 1 on 1 assistance\, please cont
 act Angie Witt at 509-540-9880.\n\nSummer Camp sponsored by: United Way
DTSTART;TZID=America/Los_Angeles:20210827T090000
DTEND;TZID=America/Los_Angeles:20210827T120000
LOCATION:
SUMMARY:Summer Camp 2021
END:VEVENT
END:VCALENDAR
