BEGIN:VCALENDAR
VERSION:2.0
PRODID:-//www.wwvdn.org//NONSGML kigkonsult.se iCalcreator 2.30.10//
CALSCALE:GREGORIAN
METHOD:PUBLISH
UID:8cf49a7d-3929-47e7-919a-93ae50e40ddb
X-WR-CALDESC:Some scholarships available - contact Angie Witt.
X-WR-RELCALID:3a82723be2be928cc00af99a5ee579ca
X-WR-TIMEZONE:America/Los_Angeles
BEGIN:VTIMEZONE
TZID:America/Los_Angeles
BEGIN:STANDARD
TZNAME:PST
DTSTART:20201101T020000
TZOFFSETFROM:-0700
TZOFFSETTO:-0800
RDATE:20211107T020000
RDATE:20221106T020000
END:STANDARD
BEGIN:DAYLIGHT
TZNAME:PDT
DTSTART:20210314T020000
TZOFFSETFROM:-0800
TZOFFSETTO:-0700
RDATE:20220313T020000
RDATE:20230312T020000
END:DAYLIGHT
END:VTIMEZONE
BEGIN:VEVENT
UID:140a1424-6bc5-4580-87de-4d1bbb4bd50f
DTSTAMP:20260420T083557Z
DESCRIPTION:Some scholarships available - contact Angie Witt.
DTSTART;TZID=America/Los_Angeles:20210917T173000
DTEND;TZID=America/Los_Angeles:20210917T183000
LOCATION:location to be determined
SUMMARY:Columbia County P2P No Host Dinner
END:VEVENT
END:VCALENDAR
