BEGIN:VCALENDAR
VERSION:2.0
PRODID:-//www.wwvdn.org//NONSGML kigkonsult.se iCalcreator 2.30.10//
CALSCALE:GREGORIAN
METHOD:PUBLISH
UID:5adeed4b-e224-4939-8f13-bca6f36724fa
X-WR-CALDESC:All ages welcome! Join us for friendly games of BINGO over Zoo
 m.\nWhen you register (green button above)\, please give us your address s
 o prizes can be delivered to you.\n\nTo join Zoom Meeting\, click the link
  below:\nhttps://us02web.zoom.us/j/81258796465?pwd=SVhLQ2dwQllrUzZDNW55TTk
 wU2x1QT09\n\nOR go to https://zoom.us and enter the following:\n\nMeeting 
 ID: 812 5879 6465\nPasscode: 389887
X-WR-RELCALID:9c4e765dca0560df37c918a3c403ef0a
X-WR-TIMEZONE:America/Los_Angeles
BEGIN:VTIMEZONE
TZID:America/Los_Angeles
BEGIN:STANDARD
TZNAME:PST
DTSTART:20201101T020000
TZOFFSETFROM:-0700
TZOFFSETTO:-0800
RDATE:20211107T020000
RDATE:20221106T020000
END:STANDARD
BEGIN:DAYLIGHT
TZNAME:PDT
DTSTART:20210314T020000
TZOFFSETFROM:-0800
TZOFFSETTO:-0700
RDATE:20220313T020000
RDATE:20230312T020000
END:DAYLIGHT
END:VTIMEZONE
BEGIN:VEVENT
UID:8833daac-40f8-4199-bd6f-ccfef32cdcbb
DTSTAMP:20260421T171331Z
DESCRIPTION:All ages welcome! Join us for friendly games of BINGO over Zoom
 .\nWhen you register (green button above)\, please give us your address so
  prizes can be delivered to you.\n\nTo join Zoom Meeting\, click the link 
 below:\nhttps://us02web.zoom.us/j/81258796465?pwd=SVhLQ2dwQllrUzZDNW55TTkw
 U2x1QT09\n\nOR go to https://zoom.us and enter the following:\n\nMeeting I
 D: 812 5879 6465\nPasscode: 389887
DTSTART;TZID=America/Los_Angeles:20210921T183000
DTEND;TZID=America/Los_Angeles:20210921T193000
LOCATION:meeting on Zoom
SUMMARY:Better Together Social Club: Virtual BINGO Night
END:VEVENT
END:VCALENDAR
