BEGIN:VCALENDAR
VERSION:2.0
PRODID:-//www.wwvdn.org//NONSGML kigkonsult.se iCalcreator 2.30.10//
CALSCALE:GREGORIAN
METHOD:PUBLISH
UID:2f065ed1-0f64-4e76-963a-8788f22c05b6
X-WR-CALDESC:
X-WR-RELCALID:3fd4e2ac2af3ddc8373b75161cf253bc
X-WR-TIMEZONE:America/Los_Angeles
BEGIN:VTIMEZONE
TZID:America/Los_Angeles
BEGIN:STANDARD
TZNAME:PST
DTSTART:20201101T020000
TZOFFSETFROM:-0700
TZOFFSETTO:-0800
RDATE:20211107T020000
RDATE:20221106T020000
END:STANDARD
BEGIN:DAYLIGHT
TZNAME:PDT
DTSTART:20210314T020000
TZOFFSETFROM:-0800
TZOFFSETTO:-0700
RDATE:20220313T020000
RDATE:20230312T020000
END:DAYLIGHT
END:VTIMEZONE
BEGIN:VEVENT
UID:4f7004ed-1af7-4d82-97ef-ac7f3b7e1c26
DTSTAMP:20260421T011145Z
DESCRIPTION:
DTSTART;TZID=America/Los_Angeles:20211013T180000
DTEND;TZID=America/Los_Angeles:20211013T190000
LOCATION:Center for Children & Families\, 1150 W Chestnut St\, Walla Walla
SUMMARY:Paper Party
END:VEVENT
END:VCALENDAR
