BEGIN:VCALENDAR
VERSION:2.0
PRODID:-//www.wwvdn.org//NONSGML kigkonsult.se iCalcreator 2.30.10//
CALSCALE:GREGORIAN
METHOD:PUBLISH
UID:6000373f-e2f0-40b4-aa38-f304f3ad7d0b
X-WR-CALDESC:
X-WR-RELCALID:384e996d80af4eb00cc56ef416bf20ee
X-WR-TIMEZONE:America/Los_Angeles
BEGIN:VTIMEZONE
TZID:America/Los_Angeles
BEGIN:STANDARD
TZNAME:PST
DTSTART:20201101T020000
TZOFFSETFROM:-0700
TZOFFSETTO:-0800
RDATE:20211107T020000
RDATE:20221106T020000
END:STANDARD
BEGIN:DAYLIGHT
TZNAME:PDT
DTSTART:20210314T020000
TZOFFSETFROM:-0800
TZOFFSETTO:-0700
RDATE:20220313T020000
RDATE:20230312T020000
END:DAYLIGHT
END:VTIMEZONE
BEGIN:VEVENT
UID:bab0994e-4116-4400-b351-acb4222e62ed
DTSTAMP:20260419T153255Z
DESCRIPTION:
DTSTART;TZID=America/Los_Angeles:20211015T173000
DTEND;TZID=America/Los_Angeles:20211015T183000
LOCATION:location to be determined
SUMMARY:Columbia County P2P Meeting
END:VEVENT
END:VCALENDAR
