BEGIN:VCALENDAR
VERSION:2.0
PRODID:-//www.wwvdn.org//NONSGML kigkonsult.se iCalcreator 2.30.10//
CALSCALE:GREGORIAN
METHOD:PUBLISH
UID:27eb1a0a-d5ca-4f4f-94bc-d842878a2009
X-WR-CALDESC:Enjoy fresh air and companionship with a brisk walk each weekd
 ay morning.\nCovid-19 precautions for the current phase will be followed.
X-WR-RELCALID:e5ed1d42d6f880442993f2a56cf05c63
X-WR-TIMEZONE:America/Los_Angeles
BEGIN:VTIMEZONE
TZID:America/Los_Angeles
BEGIN:STANDARD
TZNAME:PST
DTSTART:20201101T020000
TZOFFSETFROM:-0700
TZOFFSETTO:-0800
RDATE:20211107T020000
RDATE:20221106T020000
END:STANDARD
BEGIN:DAYLIGHT
TZNAME:PDT
DTSTART:20210314T020000
TZOFFSETFROM:-0800
TZOFFSETTO:-0700
RDATE:20220313T020000
RDATE:20230312T020000
END:DAYLIGHT
END:VTIMEZONE
BEGIN:VEVENT
UID:52c1b1e7-bbb1-4bcc-97ac-a6c9fbeea4f2
DTSTAMP:20260420T102459Z
DESCRIPTION:Enjoy fresh air and companionship with a brisk walk each weekda
 y morning.\nCovid-19 precautions for the current phase will be followed.
DTSTART;TZID=America/Los_Angeles:20211020T073000
DTEND;TZID=America/Los_Angeles:20211020T081500
LOCATION:Murr Park (corner of Abbott & Fern)
SUMMARY:Walk with ME (at Murr Park)
END:VEVENT
END:VCALENDAR
