BEGIN:VCALENDAR
VERSION:2.0
PRODID:-//www.wwvdn.org//NONSGML kigkonsult.se iCalcreator 2.30.10//
CALSCALE:GREGORIAN
METHOD:PUBLISH
UID:7f994535-f72a-43ea-b64b-99f94b393235
X-WR-CALDESC:See website for more information and links: \nhttps://www.clal
 lammosaic.org/all-in-film-fest
X-WR-RELCALID:ad708819ec2a500f8298ed44b0fa1a9e
X-WR-TIMEZONE:America/Los_Angeles
BEGIN:VTIMEZONE
TZID:America/Los_Angeles
BEGIN:STANDARD
TZNAME:PST
DTSTART:20201101T020000
TZOFFSETFROM:-0700
TZOFFSETTO:-0800
RDATE:20211107T020000
RDATE:20221106T020000
END:STANDARD
BEGIN:DAYLIGHT
TZNAME:PDT
DTSTART:20210314T020000
TZOFFSETFROM:-0800
TZOFFSETTO:-0700
RDATE:20220313T020000
RDATE:20230312T020000
END:DAYLIGHT
END:VTIMEZONE
BEGIN:VEVENT
UID:241e5861-bf8b-4196-94b2-b6cdb4d9aae1
DTSTAMP:20260420T102459Z
DESCRIPTION:See website for more information and links: \nhttps://www.clall
 ammosaic.org/all-in-film-fest
DTSTART;TZID=America/Los_Angeles:20211020T190000
DTEND;TZID=America/Los_Angeles:20211020T200000
LOCATION:
SUMMARY:All In Film Festival
END:VEVENT
END:VCALENDAR
