BEGIN:VCALENDAR
VERSION:2.0
PRODID:-//www.wwvdn.org//NONSGML kigkonsult.se iCalcreator 2.30.10//
CALSCALE:GREGORIAN
METHOD:PUBLISH
UID:5bd56866-89e4-4675-a3a8-2f8f4aa0a41a
X-WR-CALDESC:Enjoy fresh air and companionship with a brisk walk each weekd
 ay morning.\nCovid-19 precautions for the current phase will be followed.
X-WR-RELCALID:b1d7f3083f3816b6b2dbb7a405ed1034
X-WR-TIMEZONE:America/Los_Angeles
BEGIN:VTIMEZONE
TZID:America/Los_Angeles
BEGIN:STANDARD
TZNAME:PST
DTSTART:20201101T020000
TZOFFSETFROM:-0700
TZOFFSETTO:-0800
RDATE:20211107T020000
RDATE:20221106T020000
END:STANDARD
BEGIN:DAYLIGHT
TZNAME:PDT
DTSTART:20210314T020000
TZOFFSETFROM:-0800
TZOFFSETTO:-0700
RDATE:20220313T020000
RDATE:20230312T020000
END:DAYLIGHT
END:VTIMEZONE
BEGIN:VEVENT
UID:9c41da7f-122d-44fc-94e4-d7737a2e73ae
DTSTAMP:20260420T175201Z
DESCRIPTION:Enjoy fresh air and companionship with a brisk walk each weekda
 y morning.\nCovid-19 precautions for the current phase will be followed.
DTSTART;TZID=America/Los_Angeles:20211022T073000
DTEND;TZID=America/Los_Angeles:20211022T081500
LOCATION:Murr Park (corner of Abbott & Fern)
SUMMARY:Walk with ME (at Murr Park)
END:VEVENT
END:VCALENDAR
