BEGIN:VCALENDAR
VERSION:2.0
PRODID:-//www.wwvdn.org//NONSGML kigkonsult.se iCalcreator 2.30.10//
CALSCALE:GREGORIAN
METHOD:PUBLISH
UID:e814eb39-107e-49cb-a443-3026e65c8614
X-WR-CALDESC:Enjoy fresh air and companionship with a brisk walk each weekd
 ay morning.\nCovid-19 precautions for the current phase will be followed.
X-WR-RELCALID:a76817b3558c245cf6a716f09b32f899
X-WR-TIMEZONE:America/Los_Angeles
BEGIN:VTIMEZONE
TZID:America/Los_Angeles
BEGIN:STANDARD
TZNAME:PST
DTSTART:20201101T020000
TZOFFSETFROM:-0700
TZOFFSETTO:-0800
RDATE:20211107T020000
RDATE:20221106T020000
END:STANDARD
BEGIN:DAYLIGHT
TZNAME:PDT
DTSTART:20210314T020000
TZOFFSETFROM:-0800
TZOFFSETTO:-0700
RDATE:20220313T020000
RDATE:20230312T020000
END:DAYLIGHT
END:VTIMEZONE
BEGIN:VEVENT
UID:5e314eb8-6d36-49bd-b9bb-921f92df0664
DTSTAMP:20260421T083846Z
DESCRIPTION:Enjoy fresh air and companionship with a brisk walk each weekda
 y morning.\nCovid-19 precautions for the current phase will be followed.
DTSTART;TZID=America/Los_Angeles:20211025T073000
DTEND;TZID=America/Los_Angeles:20211025T081500
LOCATION:Murr Park (corner of Abbott & Fern)
SUMMARY:Walk with ME (at Murr Park)
END:VEVENT
END:VCALENDAR
