BEGIN:VCALENDAR
VERSION:2.0
PRODID:-//www.wwvdn.org//NONSGML kigkonsult.se iCalcreator 2.30.10//
CALSCALE:GREGORIAN
METHOD:PUBLISH
UID:2347e6bf-f7c1-4a96-bda4-992e365af6b1
X-WR-CALDESC:Support meeting just for moms who speak Spanish. RSVP to Ysabe
 l.\n\n
X-WR-RELCALID:98098c895eb42488d7d2a2952bccc096
X-WR-TIMEZONE:America/Los_Angeles
BEGIN:VTIMEZONE
TZID:America/Los_Angeles
BEGIN:STANDARD
TZNAME:PST
DTSTART:20201101T020000
TZOFFSETFROM:-0700
TZOFFSETTO:-0800
RDATE:20211107T020000
RDATE:20221106T020000
END:STANDARD
BEGIN:DAYLIGHT
TZNAME:PDT
DTSTART:20210314T020000
TZOFFSETFROM:-0800
TZOFFSETTO:-0700
RDATE:20220313T020000
RDATE:20230312T020000
END:DAYLIGHT
END:VTIMEZONE
BEGIN:VEVENT
UID:3b0e9ad8-676b-4d8f-a16d-5ae3c9e46a71
DTSTAMP:20260421T202855Z
DESCRIPTION:Support meeting just for moms who speak Spanish. RSVP to Ysabel
 .\n\n
DTSTART;TZID=America/Los_Angeles:20211029T130000
DTEND;TZID=America/Los_Angeles:20211029T140000
LOCATION:Contact Ysabel for details
SUMMARY:Mamas Especiales
END:VEVENT
END:VCALENDAR
