BEGIN:VCALENDAR
VERSION:2.0
PRODID:-//www.wwvdn.org//NONSGML kigkonsult.se iCalcreator 2.30.10//
CALSCALE:GREGORIAN
METHOD:PUBLISH
UID:364c770f-2fc5-48e3-9f57-a8801f3b9b5c
X-WR-CALDESC:For ages 7 - 18 years old\nPlease RSVP (green button) above.
X-WR-RELCALID:e4b44e126a3db21e84b68bc67c5c9d19
X-WR-TIMEZONE:America/Los_Angeles
BEGIN:VTIMEZONE
TZID:America/Los_Angeles
BEGIN:STANDARD
TZNAME:PST
DTSTART:20211107T020000
TZOFFSETFROM:-0700
TZOFFSETTO:-0800
RDATE:20221106T020000
END:STANDARD
BEGIN:DAYLIGHT
TZNAME:PDT
DTSTART:20210314T020000
TZOFFSETFROM:-0800
TZOFFSETTO:-0700
RDATE:20220313T020000
RDATE:20230312T020000
END:DAYLIGHT
END:VTIMEZONE
BEGIN:VEVENT
UID:1215def1-f106-4fba-9ddf-1897ab659ee6
DTSTAMP:20260421T083106Z
DESCRIPTION:For ages 7 - 18 years old\nPlease RSVP (green button) above.
DTSTART;TZID=America/Los_Angeles:20211109T180000
DTEND;TZID=America/Los_Angeles:20211109T193000
LOCATION:Center for Children & Families\, 1150 W Chestnut St\, Walla Walla
SUMMARY:Better Together Youth Social Club: Fun with Music
END:VEVENT
END:VCALENDAR
