BEGIN:VCALENDAR
VERSION:2.0
PRODID:-//www.wwvdn.org//NONSGML kigkonsult.se iCalcreator 2.30.10//
CALSCALE:GREGORIAN
METHOD:PUBLISH
UID:88ea8a6d-f083-464f-9e06-11c1fad7d692
X-WR-CALDESC:Enjoy shelter from the weather and companionship with a brisk 
 walk each weekday morning in the gym.\nCovid-19 precautions for the curren
 t phase will be followed.
X-WR-RELCALID:a94b63bc6a05f5eaf05415f2ef0e5721
X-WR-TIMEZONE:America/Los_Angeles
BEGIN:VTIMEZONE
TZID:America/Los_Angeles
BEGIN:STANDARD
TZNAME:PST
DTSTART:20211107T020000
TZOFFSETFROM:-0700
TZOFFSETTO:-0800
RDATE:20221106T020000
END:STANDARD
BEGIN:DAYLIGHT
TZNAME:PDT
DTSTART:20210314T020000
TZOFFSETFROM:-0800
TZOFFSETTO:-0700
RDATE:20220313T020000
RDATE:20230312T020000
END:DAYLIGHT
END:VTIMEZONE
BEGIN:VEVENT
UID:55ebefa9-7171-4947-bc0a-33a5731c1593
DTSTAMP:20260420T103843Z
DESCRIPTION:Enjoy shelter from the weather and companionship with a brisk w
 alk each weekday morning in the gym.\nCovid-19 precautions for the current
  phase will be followed.
DTSTART;TZID=America/Los_Angeles:20211110T073000
DTEND;TZID=America/Los_Angeles:20211110T083000
LOCATION:Center for Children & Families\, 1150 W Chestnut St\, Walla Walla
SUMMARY:Weekday Walks at the Center for Children & Families
END:VEVENT
END:VCALENDAR
