BEGIN:VCALENDAR
VERSION:2.0
PRODID:-//www.wwvdn.org//NONSGML kigkonsult.se iCalcreator 2.30.10//
CALSCALE:GREGORIAN
METHOD:PUBLISH
UID:dccb39fb-333c-49cf-81fa-bfaef83f2186
X-WR-CALDESC:Basketball meets on Fridays: January 7th\, 14th\, 21st\, 28th\
 , and February 4th & 11th\n\n5:00-6:00 pm Youth Basketball (ages 7-18) \n6
 :00-7:00 pm Adult Basketball (18 and over)\n\nCost: Free - funding provide
 d by the generosity of Blue Mountain Church members.\n\n*Peer Mentors need
 ed to help with youth basketball from 5-6 pm. There is no cost to be a men
 tor. When registering\, please select Peer Mentor.*
X-WR-RELCALID:72d67a4bc98e6f7cc6d5dd8f7ac52576
X-WR-TIMEZONE:America/Los_Angeles
BEGIN:VTIMEZONE
TZID:America/Los_Angeles
BEGIN:STANDARD
TZNAME:PST
DTSTART:20211107T020000
TZOFFSETFROM:-0700
TZOFFSETTO:-0800
RDATE:20221106T020000
END:STANDARD
BEGIN:DAYLIGHT
TZNAME:PDT
DTSTART:20210314T020000
TZOFFSETFROM:-0800
TZOFFSETTO:-0700
RDATE:20220313T020000
RDATE:20230312T020000
END:DAYLIGHT
END:VTIMEZONE
BEGIN:VEVENT
UID:3e7e0a45-8653-4b6f-aae7-c70e9469b1c7
DTSTAMP:20260419T133631Z
DESCRIPTION:Basketball meets on Fridays: January 7th\, 14th\, 21st\, 28th\,
  and February 4th & 11th\n\n5:00-6:00 pm Youth Basketball (ages 7-18) \n6:
 00-7:00 pm Adult Basketball (18 and over)\n\nCost: Free - funding provided
  by the generosity of Blue Mountain Church members.\n\n*Peer Mentors neede
 d to help with youth basketball from 5-6 pm. There is no cost to be a ment
 or. When registering\, please select Peer Mentor.*
DTSTART;TZID=America/Los_Angeles:20220128T170000
DTEND;TZID=America/Los_Angeles:20220128T190000
LOCATION:Edison Elementary School Gym - 1315 E Alder St\, Walla Walla
SUMMARY:Challenger Basketball (Youth 5-6 pm & Adult 6-7 pm)
END:VEVENT
END:VCALENDAR
