BEGIN:VCALENDAR
VERSION:2.0
PRODID:-//www.wwvdn.org//NONSGML kigkonsult.se iCalcreator 2.30.10//
CALSCALE:GREGORIAN
METHOD:PUBLISH
UID:fd1cd995-50d9-4fed-bb78-9a2c4f82fb2b
X-WR-CALDESC:Valley Residential Services is offering free cooking & craft k
 its each Wednesday for pick up at Valley Residential Services.\nIf you are
  new and would like to start picking up craft and/or cooking kits\, please
  call the VRS office and let them know\, or contact them through the Faceb
 ook group (link below).\nPlease join the VRS Cooking & Craft Class Faceboo
 k page for notifications and information. \nhttps://www.facebook.com/group
 s/624471007968114\n\nPick up starts at 8am on Wednesdays and kits are avai
 lable on a first come\, first served basis.\n\nFor more information\, plea
 se contact VRS at 509-522-0400 or reach out through the Facebook page.\n\n
 Cooking & Craft kits made possible with funds from Walla Walla County.\n\n
 *This is not a Walla Walla Valley Disability Network event.*
X-WR-RELCALID:5acc60460a4cb49ff2bb8e6a02ac080d
X-WR-TIMEZONE:America/Los_Angeles
BEGIN:VTIMEZONE
TZID:America/Los_Angeles
BEGIN:STANDARD
TZNAME:PST
DTSTART:20211107T020000
TZOFFSETFROM:-0700
TZOFFSETTO:-0800
RDATE:20221106T020000
END:STANDARD
BEGIN:DAYLIGHT
TZNAME:PDT
DTSTART:20210314T020000
TZOFFSETFROM:-0800
TZOFFSETTO:-0700
RDATE:20220313T020000
RDATE:20230312T020000
END:DAYLIGHT
END:VTIMEZONE
BEGIN:VEVENT
UID:0f1d2fd9-cc01-444e-987f-951a2e3805ac
DTSTAMP:20260420T171835Z
DESCRIPTION:Valley Residential Services is offering free cooking & craft ki
 ts each Wednesday for pick up at Valley Residential Services.\nIf you are 
 new and would like to start picking up craft and/or cooking kits\, please 
 call the VRS office and let them know\, or contact them through the Facebo
 ok group (link below).\nPlease join the VRS Cooking & Craft Class Facebook
  page for notifications and information. \nhttps://www.facebook.com/groups
 /624471007968114\n\nPick up starts at 8am on Wednesdays and kits are avail
 able on a first come\, first served basis.\n\nFor more information\, pleas
 e contact VRS at 509-522-0400 or reach out through the Facebook page.\n\nC
 ooking & Craft kits made possible with funds from Walla Walla County.\n\n*
 This is not a Walla Walla Valley Disability Network event.*
DTSTART;TZID=America/Los_Angeles:20220209T000000
DTEND;TZID=America/Los_Angeles:20220209T235900
LOCATION:Valley Residential Services - 240 Bush St\, Walla Walla
SUMMARY:Craft Kit Pickup at Valley Residential Services
END:VEVENT
END:VCALENDAR
