BEGIN:VCALENDAR
VERSION:2.0
PRODID:-//www.wwvdn.org//NONSGML kigkonsult.se iCalcreator 2.30.10//
CALSCALE:GREGORIAN
METHOD:PUBLISH
UID:71a0813c-5e5c-4441-816b-e75459b80f5a
X-WR-CALDESC:Enjoy fresh air and companionship with a brisk walk each weekd
 ay morning.\n
X-WR-RELCALID:07aa176f17935f46d7ec041950bb1d82
X-WR-TIMEZONE:America/Los_Angeles
BEGIN:VTIMEZONE
TZID:America/Los_Angeles
BEGIN:STANDARD
TZNAME:PST
DTSTART:20211107T020000
TZOFFSETFROM:-0700
TZOFFSETTO:-0800
RDATE:20221106T020000
END:STANDARD
BEGIN:DAYLIGHT
TZNAME:PDT
DTSTART:20220313T020000
TZOFFSETFROM:-0800
TZOFFSETTO:-0700
RDATE:20230312T020000
END:DAYLIGHT
END:VTIMEZONE
BEGIN:VEVENT
UID:283747dd-c914-408b-a744-1e6dcdec7687
DTSTAMP:20260419T193830Z
DESCRIPTION:Enjoy fresh air and companionship with a brisk walk each weekda
 y morning.\n
DTSTART;TZID=America/Los_Angeles:20220412T074500
DTEND;TZID=America/Los_Angeles:20220412T081500
LOCATION:Murr Park (corner of Abbott & Fern)
SUMMARY:Walk with ME (Mamas Especiales)
END:VEVENT
END:VCALENDAR
