BEGIN:VCALENDAR
VERSION:2.0
PRODID:-//www.wwvdn.org//NONSGML kigkonsult.se iCalcreator 2.30.10//
CALSCALE:GREGORIAN
METHOD:PUBLISH
UID:8f4bfc1b-60d8-41af-bba7-3d4105f9ec79
X-WR-CALDESC:Deadline to Register is May 5. (green button above)
X-WR-RELCALID:a8bb19fbc167b281427768b801af74c1
X-WR-TIMEZONE:America/Los_Angeles
BEGIN:VTIMEZONE
TZID:America/Los_Angeles
BEGIN:STANDARD
TZNAME:PST
DTSTART:20211107T020000
TZOFFSETFROM:-0700
TZOFFSETTO:-0800
RDATE:20221106T020000
RDATE:20231105T020000
END:STANDARD
BEGIN:DAYLIGHT
TZNAME:PDT
DTSTART:20220313T020000
TZOFFSETFROM:-0800
TZOFFSETTO:-0700
RDATE:20230312T020000
END:DAYLIGHT
END:VTIMEZONE
BEGIN:VEVENT
UID:d72ec647-74d9-474e-a478-254106d40449
DTSTAMP:20260421T041848Z
DESCRIPTION:Deadline to Register is May 5. (green button above)
DTSTART;TZID=America/Los_Angeles:20220507T160000
DTEND;TZID=America/Los_Angeles:20220507T190000
LOCATION:
SUMMARY:Mom's Day Out
END:VEVENT
END:VCALENDAR
