BEGIN:VCALENDAR
VERSION:2.0
PRODID:-//www.wwvdn.org//NONSGML kigkonsult.se iCalcreator 2.30.10//
CALSCALE:GREGORIAN
METHOD:PUBLISH
UID:e3b3ce58-f48b-41f1-9012-ca26472fee4a
X-WR-CALDESC:
X-WR-RELCALID:6e5c1d87b24eb08ee5b48d6fe8d0565d
X-WR-TIMEZONE:America/Los_Angeles
BEGIN:VTIMEZONE
TZID:America/Los_Angeles
BEGIN:STANDARD
TZNAME:PST
DTSTART:20211107T020000
TZOFFSETFROM:-0700
TZOFFSETTO:-0800
RDATE:20221106T020000
RDATE:20231105T020000
END:STANDARD
BEGIN:DAYLIGHT
TZNAME:PDT
DTSTART:20220313T020000
TZOFFSETFROM:-0800
TZOFFSETTO:-0700
RDATE:20230312T020000
END:DAYLIGHT
END:VTIMEZONE
BEGIN:VEVENT
UID:feff6194-8a81-42e7-a23c-943beea2e216
DTSTAMP:20260422T005016Z
DESCRIPTION:
DTSTART;TZID=America/Los_Angeles:20220607T000000
DTEND;TZID=America/Los_Angeles:20220610T235900
LOCATION:College Place District Office\, 1755 S. College Ave\, College Plac
 e\, WA
SUMMARY:SmileMobile Dental Care
END:VEVENT
END:VCALENDAR
