BEGIN:VCALENDAR
VERSION:2.0
PRODID:-//www.wwvdn.org//NONSGML kigkonsult.se iCalcreator 2.30.10//
CALSCALE:GREGORIAN
METHOD:PUBLISH
UID:e7a58af6-fff7-419e-80c3-07dc3ad76289
X-WR-CALDESC:Enjoy fresh air and companionship with a brisk walk each weekd
 ay morning.\n
X-WR-RELCALID:5f2ec495ba299679d9dd148848791e85
X-WR-TIMEZONE:America/Los_Angeles
BEGIN:VTIMEZONE
TZID:America/Los_Angeles
BEGIN:STANDARD
TZNAME:PST
DTSTART:20211107T020000
TZOFFSETFROM:-0700
TZOFFSETTO:-0800
RDATE:20221106T020000
RDATE:20231105T020000
END:STANDARD
BEGIN:DAYLIGHT
TZNAME:PDT
DTSTART:20220313T020000
TZOFFSETFROM:-0800
TZOFFSETTO:-0700
RDATE:20230312T020000
END:DAYLIGHT
END:VTIMEZONE
BEGIN:VEVENT
UID:6beec570-b29c-4bbd-96b9-1e80f623002b
DTSTAMP:20260419T175441Z
DESCRIPTION:Enjoy fresh air and companionship with a brisk walk each weekda
 y morning.\n
DTSTART;TZID=America/Los_Angeles:20220608T074500
DTEND;TZID=America/Los_Angeles:20220608T081500
LOCATION:Murr Park (corner of Abbott & Fern)
SUMMARY:Walk with ME (Mamas Especiales)
END:VEVENT
END:VCALENDAR
