BEGIN:VCALENDAR
VERSION:2.0
PRODID:-//www.wwvdn.org//NONSGML kigkonsult.se iCalcreator 2.30.10//
CALSCALE:GREGORIAN
METHOD:PUBLISH
UID:340a65a1-8b56-48e9-b486-20fc92d05cc4
X-WR-CALDESC:Valley Residential Services is offering free cooking & craft k
 its each Wednesday for pick up at Valley Residential Services.\nIf you are
  new and would like to start picking up craft and/or cooking kits\, please
  call the VRS office and let them know\, or contact them through the Faceb
 ook group (link below).\nPlease join the VRS Cooking & Craft Class Faceboo
 k page for notifications and information. \nhttps://www.facebook.com/group
 s/624471007968114\n\nPick up starts at 8am on Wednesdays and kits are avai
 lable on a first come\, first served basis.\n\nFor more information\, plea
 se contact VRS at 509-522-0400 or reach out through the Facebook page.\n\n
 Cooking & Craft kits made possible with funds from Walla Walla County.\n\n
 *This is not a Walla Walla Valley Disability Network event.*
X-WR-RELCALID:049db1ca09736d9b35acc8d9bc270881
X-WR-TIMEZONE:America/Los_Angeles
BEGIN:VTIMEZONE
TZID:America/Los_Angeles
BEGIN:STANDARD
TZNAME:PST
DTSTART:20211107T020000
TZOFFSETFROM:-0700
TZOFFSETTO:-0800
RDATE:20221106T020000
RDATE:20231105T020000
END:STANDARD
BEGIN:DAYLIGHT
TZNAME:PDT
DTSTART:20220313T020000
TZOFFSETFROM:-0800
TZOFFSETTO:-0700
RDATE:20230312T020000
END:DAYLIGHT
END:VTIMEZONE
BEGIN:VEVENT
UID:fc7aa8e3-583b-4085-9b7f-d881f7003f90
DTSTAMP:20260420T184326Z
DESCRIPTION:Valley Residential Services is offering free cooking & craft ki
 ts each Wednesday for pick up at Valley Residential Services.\nIf you are 
 new and would like to start picking up craft and/or cooking kits\, please 
 call the VRS office and let them know\, or contact them through the Facebo
 ok group (link below).\nPlease join the VRS Cooking & Craft Class Facebook
  page for notifications and information. \nhttps://www.facebook.com/groups
 /624471007968114\n\nPick up starts at 8am on Wednesdays and kits are avail
 able on a first come\, first served basis.\n\nFor more information\, pleas
 e contact VRS at 509-522-0400 or reach out through the Facebook page.\n\nC
 ooking & Craft kits made possible with funds from Walla Walla County.\n\n*
 This is not a Walla Walla Valley Disability Network event.*
DTSTART;TZID=America/Los_Angeles:20220615T000000
DTEND;TZID=America/Los_Angeles:20220615T235900
LOCATION:Valley Residential Services - 240 Bush St\, Walla Walla
SUMMARY:Cooking Kit Pickup at Valley Residential Services
END:VEVENT
END:VCALENDAR
