BEGIN:VCALENDAR
VERSION:2.0
PRODID:-//www.wwvdn.org//NONSGML kigkonsult.se iCalcreator 2.30.10//
CALSCALE:GREGORIAN
METHOD:PUBLISH
UID:61ae7fa8-ed3f-4da4-8c82-28f9d59aaf83
X-WR-CALDESC:Enjoy fresh air and companionship with a brisk walk each weekd
 ay morning.\n
X-WR-RELCALID:a34b72463a99848ad5e250f4ba58478e
X-WR-TIMEZONE:America/Los_Angeles
BEGIN:VTIMEZONE
TZID:America/Los_Angeles
BEGIN:STANDARD
TZNAME:PST
DTSTART:20211107T020000
TZOFFSETFROM:-0700
TZOFFSETTO:-0800
RDATE:20221106T020000
RDATE:20231105T020000
END:STANDARD
BEGIN:DAYLIGHT
TZNAME:PDT
DTSTART:20220313T020000
TZOFFSETFROM:-0800
TZOFFSETTO:-0700
RDATE:20230312T020000
END:DAYLIGHT
END:VTIMEZONE
BEGIN:VEVENT
UID:ba767f21-502b-47c7-b20d-e4b568515156
DTSTAMP:20260419T125519Z
DESCRIPTION:Enjoy fresh air and companionship with a brisk walk each weekda
 y morning.\n
DTSTART;TZID=America/Los_Angeles:20220622T074500
DTEND;TZID=America/Los_Angeles:20220622T081500
LOCATION:Murr Park (corner of Abbott & Fern)
SUMMARY:Walk with ME (Mamas Especiales)
END:VEVENT
END:VCALENDAR
