BEGIN:VCALENDAR
VERSION:2.0
PRODID:-//www.wwvdn.org//NONSGML kigkonsult.se iCalcreator 2.30.10//
CALSCALE:GREGORIAN
METHOD:PUBLISH
UID:1bf36565-88c2-43a2-8b96-836b64b1e5bf
X-WR-CALDESC:For more information\, please visit:\nhttps://www.cinemark.com
 /series-events-info-pages/summer-movie-clubhouse\n\nor the cinemark home p
 age:\nhttps://www.cinemark.com/theatres/wa-walla-walla/cinemark-grand-cine
 mas-formerly-hallett-grand-cinemas-12\n
X-WR-RELCALID:61767e551670235b95b475858399a4e7
X-WR-TIMEZONE:America/Los_Angeles
BEGIN:VTIMEZONE
TZID:America/Los_Angeles
BEGIN:STANDARD
TZNAME:PST
DTSTART:20211107T020000
TZOFFSETFROM:-0700
TZOFFSETTO:-0800
RDATE:20221106T020000
RDATE:20231105T020000
END:STANDARD
BEGIN:DAYLIGHT
TZNAME:PDT
DTSTART:20220313T020000
TZOFFSETFROM:-0800
TZOFFSETTO:-0700
RDATE:20230312T020000
END:DAYLIGHT
END:VTIMEZONE
BEGIN:VEVENT
UID:94e9ed40-e4b7-4e42-98ae-e4f4a4ac180e
DTSTAMP:20260421T031758Z
DESCRIPTION:For more information\, please visit:\nhttps://www.cinemark.com/
 series-events-info-pages/summer-movie-clubhouse\n\nor the cinemark home pa
 ge:\nhttps://www.cinemark.com/theatres/wa-walla-walla/cinemark-grand-cinem
 as-formerly-hallett-grand-cinemas-12\n
DTSTART;TZID=America/Los_Angeles:20220713T100000
DTEND;TZID=America/Los_Angeles:20220713T120000
LOCATION:Cinemark Grand Cinemas\, 1325 W Poplar St\, Walla Walla
SUMMARY:Summer Movie Clubhouse - Paw Patrol: The Movie
END:VEVENT
END:VCALENDAR
