BEGIN:VCALENDAR
VERSION:2.0
PRODID:-//www.wwvdn.org//NONSGML kigkonsult.se iCalcreator 2.30.10//
CALSCALE:GREGORIAN
METHOD:PUBLISH
UID:d597eaef-3442-4508-9678-530a96d14169
X-WR-CALDESC:Rockabilly fun with Aaron Cantwell. Musicians encouraged to br
 ing along their instruments. \n\nFor more Walla Walla Public Library event
 s\, please visit their calendar at:\nhttps://www.wallawallapubliclibrary.o
 rg/calendar/-curm-7/-cury-2022
X-WR-RELCALID:968ba8cc2fea3af2e4abf227b6dfffae
X-WR-TIMEZONE:America/Los_Angeles
BEGIN:VTIMEZONE
TZID:America/Los_Angeles
BEGIN:STANDARD
TZNAME:PST
DTSTART:20211107T020000
TZOFFSETFROM:-0700
TZOFFSETTO:-0800
RDATE:20221106T020000
RDATE:20231105T020000
END:STANDARD
BEGIN:DAYLIGHT
TZNAME:PDT
DTSTART:20220313T020000
TZOFFSETFROM:-0800
TZOFFSETTO:-0700
RDATE:20230312T020000
END:DAYLIGHT
END:VTIMEZONE
BEGIN:VEVENT
UID:a9b2bcfd-21f5-4e77-8e06-b754449012a2
DTSTAMP:20260423T075638Z
DESCRIPTION:Rockabilly fun with Aaron Cantwell. Musicians encouraged to bri
 ng along their instruments. \n\nFor more Walla Walla Public Library events
 \, please visit their calendar at:\nhttps://www.wallawallapubliclibrary.or
 g/calendar/-curm-7/-cury-2022
DTSTART;TZID=America/Los_Angeles:20220726T100000
DTEND;TZID=America/Los_Angeles:20220726T110000
LOCATION:Walla Walla Public Library\, 238 E Alder St\, Walla Walla\, WA
SUMMARY:Terrific Tuesdays at WW Public Library: Ukulele Day Concerts
END:VEVENT
END:VCALENDAR
