BEGIN:VCALENDAR
VERSION:2.0
PRODID:-//www.wwvdn.org//NONSGML kigkonsult.se iCalcreator 2.30.10//
CALSCALE:GREGORIAN
METHOD:PUBLISH
UID:f4e9d1e5-b256-439a-8044-788db1fe9cdc
X-WR-CALDESC:*This is not a Walla Walla Valley Disability Network event.*\n
 \nfor more Walla Walla Parks & Recreation Summer Events\, please go to: \n
 https://en.calameo.com/read/000438127556fb36933a9
X-WR-RELCALID:2a9e3b68a1be917fa50283728d65fad6
X-WR-TIMEZONE:America/Los_Angeles
BEGIN:VTIMEZONE
TZID:America/Los_Angeles
BEGIN:STANDARD
TZNAME:PST
DTSTART:20211107T020000
TZOFFSETFROM:-0700
TZOFFSETTO:-0800
RDATE:20221106T020000
RDATE:20231105T020000
END:STANDARD
BEGIN:DAYLIGHT
TZNAME:PDT
DTSTART:20220313T020000
TZOFFSETFROM:-0800
TZOFFSETTO:-0700
RDATE:20230312T020000
END:DAYLIGHT
END:VTIMEZONE
BEGIN:VEVENT
UID:9e262f69-f429-4411-99c8-c9ffa763012b
DTSTAMP:20260419T171851Z
DESCRIPTION:*This is not a Walla Walla Valley Disability Network event.*\n
 \nfor more Walla Walla Parks & Recreation Summer Events\, please go to: \n
 https://en.calameo.com/read/000438127556fb36933a9
DTSTART;TZID=America/Los_Angeles:20220728T200000
DTEND;TZID=America/Los_Angeles:20220728T220000
LOCATION:Heritage Park\, 116 E. Main St\, Walla Walla
SUMMARY:WW Parks & Rec Movies in the Park - Spiderman
END:VEVENT
END:VCALENDAR
