BEGIN:VCALENDAR
VERSION:2.0
PRODID:-//www.wwvdn.org//NONSGML kigkonsult.se iCalcreator 2.30.10//
CALSCALE:GREGORIAN
METHOD:PUBLISH
UID:3fefd725-9359-48a2-a09b-b4ab6f7b5c72
X-WR-CALDESC:Support meeting just for moms who speak Spanish. RSVP to Ysabe
 l.\n\n
X-WR-RELCALID:ad2733ae358447708962c4f6e46ec9a3
X-WR-TIMEZONE:America/Los_Angeles
BEGIN:VTIMEZONE
TZID:America/Los_Angeles
BEGIN:STANDARD
TZNAME:PST
DTSTART:20211107T020000
TZOFFSETFROM:-0700
TZOFFSETTO:-0800
RDATE:20221106T020000
RDATE:20231105T020000
END:STANDARD
BEGIN:DAYLIGHT
TZNAME:PDT
DTSTART:20220313T020000
TZOFFSETFROM:-0800
TZOFFSETTO:-0700
RDATE:20230312T020000
END:DAYLIGHT
END:VTIMEZONE
BEGIN:VEVENT
UID:7a9d3835-d68e-42b1-9249-88ba8a5f1ab2
DTSTAMP:20260423T191205Z
DESCRIPTION:Support meeting just for moms who speak Spanish. RSVP to Ysabel
 .\n\n
DTSTART;TZID=America/Los_Angeles:20220805T130000
DTEND;TZID=America/Los_Angeles:20220805T140000
LOCATION:Contact Ysabel for details
SUMMARY:Mamas Especiales
END:VEVENT
END:VCALENDAR
