BEGIN:VCALENDAR
VERSION:2.0
PRODID:-//www.wwvdn.org//NONSGML kigkonsult.se iCalcreator 2.30.10//
CALSCALE:GREGORIAN
METHOD:PUBLISH
UID:66bbcf2b-26a3-4061-88d4-c3e29cddc5cf
X-WR-CALDESC:Camp Director: Tash (Tahasha) Foxe\nDates: August 8-12\nTime: 
 9:00 am to noon\nAges: School aged (thru 21)\nCost: $50 for the one-week s
 ession (contact Angie if you need a scholarship)\n\nSummer Camp is designe
 d specifically for kids with mild to moderate special needs and offers cra
 fts\, games\, snacks\, guest visits\, and many other activities.\n\nSummer
  Camp will be held in person at the Center for Children & Families.\n\nIf 
 you feel your child requires 1 on 1 assistance\, please contact Angie Witt
  at 509-540-9880.\n\nSummer Camp sponsored by: United Way
X-WR-RELCALID:28c8707d5eb8236a74b15965b131358b
X-WR-TIMEZONE:America/Los_Angeles
BEGIN:VTIMEZONE
TZID:America/Los_Angeles
BEGIN:STANDARD
TZNAME:PST
DTSTART:20211107T020000
TZOFFSETFROM:-0700
TZOFFSETTO:-0800
RDATE:20221106T020000
RDATE:20231105T020000
END:STANDARD
BEGIN:DAYLIGHT
TZNAME:PDT
DTSTART:20220313T020000
TZOFFSETFROM:-0800
TZOFFSETTO:-0700
RDATE:20230312T020000
END:DAYLIGHT
END:VTIMEZONE
BEGIN:VEVENT
UID:63aca587-206e-4a66-a245-2614fd91090d
DTSTAMP:20260421T104226Z
DESCRIPTION:Camp Director: Tash (Tahasha) Foxe\nDates: August 8-12\nTime: 9
 :00 am to noon\nAges: School aged (thru 21)\nCost: $50 for the one-week se
 ssion (contact Angie if you need a scholarship)\n\nSummer Camp is designed
  specifically for kids with mild to moderate special needs and offers craf
 ts\, games\, snacks\, guest visits\, and many other activities.\n\nSummer 
 Camp will be held in person at the Center for Children & Families.\n\nIf y
 ou feel your child requires 1 on 1 assistance\, please contact Angie Witt 
 at 509-540-9880.\n\nSummer Camp sponsored by: United Way
DTSTART;TZID=America/Los_Angeles:20220810T090000
DTEND;TZID=America/Los_Angeles:20220810T120000
LOCATION:Location: Center for Children & Families\, 1150 W Chestnut\, Walla
  Walla
SUMMARY:Summer Camp 2022
END:VEVENT
END:VCALENDAR
