BEGIN:VCALENDAR
VERSION:2.0
PRODID:-//www.wwvdn.org//NONSGML kigkonsult.se iCalcreator 2.30.10//
CALSCALE:GREGORIAN
METHOD:PUBLISH
UID:ecc5e5ea-f10c-4ca2-bd86-af8d4e16c2b6
X-WR-CALDESC:Enjoy fresh air and companionship with a brisk walk each weekd
 ay morning.\n
X-WR-RELCALID:ba3b2df849c3b6a56f0714e7763ef8d2
X-WR-TIMEZONE:America/Los_Angeles
BEGIN:VTIMEZONE
TZID:America/Los_Angeles
BEGIN:STANDARD
TZNAME:PST
DTSTART:20211107T020000
TZOFFSETFROM:-0700
TZOFFSETTO:-0800
RDATE:20221106T020000
RDATE:20231105T020000
END:STANDARD
BEGIN:DAYLIGHT
TZNAME:PDT
DTSTART:20220313T020000
TZOFFSETFROM:-0800
TZOFFSETTO:-0700
RDATE:20230312T020000
END:DAYLIGHT
END:VTIMEZONE
BEGIN:VEVENT
UID:735794f0-6664-46b9-a717-cf156d331c8a
DTSTAMP:20260419T165536Z
DESCRIPTION:Enjoy fresh air and companionship with a brisk walk each weekda
 y morning.\n
DTSTART;TZID=America/Los_Angeles:20220817T060000
DTEND;TZID=America/Los_Angeles:20220817T063000
LOCATION:Murr Park (corner of Abbott & Fern)
SUMMARY:Walk with ME (Mamas Especiales)
END:VEVENT
END:VCALENDAR
