BEGIN:VCALENDAR
VERSION:2.0
PRODID:-//www.wwvdn.org//NONSGML kigkonsult.se iCalcreator 2.30.10//
CALSCALE:GREGORIAN
METHOD:PUBLISH
UID:2228a310-b0d7-4b2f-a7da-f7fb9b8e9e24
X-WR-CALDESC:Cost: $2 per person\n\nFor more Walla Walla Parks & Recreation
  opportunities\, please see their program guide\nhttps://en.calameo.com/re
 ad/000438127556fb36933a9\n\n*This is not a Walla Walla Valley Disability N
 etwork event.*
X-WR-RELCALID:ed5ce43474ed7fe09b91106381fe6d95
X-WR-TIMEZONE:America/Los_Angeles
BEGIN:VTIMEZONE
TZID:America/Los_Angeles
BEGIN:STANDARD
TZNAME:PST
DTSTART:20211107T020000
TZOFFSETFROM:-0700
TZOFFSETTO:-0800
RDATE:20221106T020000
RDATE:20231105T020000
END:STANDARD
BEGIN:DAYLIGHT
TZNAME:PDT
DTSTART:20220313T020000
TZOFFSETFROM:-0800
TZOFFSETTO:-0700
RDATE:20230312T020000
END:DAYLIGHT
END:VTIMEZONE
BEGIN:VEVENT
UID:b025b037-5a67-45ca-96b2-14e57fbcf101
DTSTAMP:20260420T213648Z
DESCRIPTION:Cost: $2 per person\n\nFor more Walla Walla Parks & Recreation 
 opportunities\, please see their program guide\nhttps://en.calameo.com/rea
 d/000438127556fb36933a9\n\n*This is not a Walla Walla Valley Disability Ne
 twork event.*
DTSTART;TZID=America/Los_Angeles:20220819T090000
DTEND;TZID=America/Los_Angeles:20220819T110000
LOCATION:Veteran's Memorial Pool\, 505 E Rees Ave\, Walla Walla
SUMMARY:Adaptive Swim at Veteran's Memorial Pool
END:VEVENT
END:VCALENDAR
