BEGIN:VCALENDAR
VERSION:2.0
PRODID:-//www.wwvdn.org//NONSGML kigkonsult.se iCalcreator 2.30.10//
CALSCALE:GREGORIAN
METHOD:PUBLISH
UID:41e4b5ed-101f-475d-b4b3-af4a95bac958
X-WR-CALDESC:Support meeting just for moms who speak Spanish. RSVP to Ysabe
 l.\n\n
X-WR-RELCALID:6577d33c13860a93bf51da60b007176d
X-WR-TIMEZONE:America/Los_Angeles
BEGIN:VTIMEZONE
TZID:America/Los_Angeles
BEGIN:STANDARD
TZNAME:PST
DTSTART:20211107T020000
TZOFFSETFROM:-0700
TZOFFSETTO:-0800
RDATE:20221106T020000
RDATE:20231105T020000
END:STANDARD
BEGIN:DAYLIGHT
TZNAME:PDT
DTSTART:20220313T020000
TZOFFSETFROM:-0800
TZOFFSETTO:-0700
RDATE:20230312T020000
RDATE:20240310T020000
END:DAYLIGHT
END:VTIMEZONE
BEGIN:VEVENT
UID:cea775fe-7545-4b05-9ca5-6a28292562b6
DTSTAMP:20260420T093244Z
DESCRIPTION:Support meeting just for moms who speak Spanish. RSVP to Ysabel
 .\n\n
DTSTART;TZID=America/Los_Angeles:20220913T180000
DTEND;TZID=America/Los_Angeles:20220913T200000
LOCATION:Center for Children & Families\, 1150 W Chestnut St\, Walla Walla
SUMMARY:Mamas Especiales - Mexican Night
END:VEVENT
END:VCALENDAR
