BEGIN:VCALENDAR
VERSION:2.0
PRODID:-//www.wwvdn.org//NONSGML kigkonsult.se iCalcreator 2.30.10//
CALSCALE:GREGORIAN
METHOD:PUBLISH
UID:a34f41bc-5487-4680-b89c-2daad8a1ce5e
X-WR-CALDESC:Join us to see old friends and make new ones.
X-WR-RELCALID:8d4dcaa3a7b5db15e56ef21c5705624b
X-WR-TIMEZONE:America/Los_Angeles
BEGIN:VTIMEZONE
TZID:America/Los_Angeles
BEGIN:STANDARD
TZNAME:PST
DTSTART:20211107T020000
TZOFFSETFROM:-0700
TZOFFSETTO:-0800
RDATE:20221106T020000
RDATE:20231105T020000
END:STANDARD
BEGIN:DAYLIGHT
TZNAME:PDT
DTSTART:20220313T020000
TZOFFSETFROM:-0800
TZOFFSETTO:-0700
RDATE:20230312T020000
RDATE:20240310T020000
END:DAYLIGHT
END:VTIMEZONE
BEGIN:VEVENT
UID:78d6138e-5de7-472b-a073-c00e99d66ab2
DTSTAMP:20260421T050227Z
DESCRIPTION:Join us to see old friends and make new ones.
DTSTART;TZID=America/Los_Angeles:20220923T173000
DTEND;TZID=America/Los_Angeles:20220923T183000
LOCATION:
SUMMARY:Columbia County P2P Meeting
END:VEVENT
END:VCALENDAR
