BEGIN:VCALENDAR
VERSION:2.0
PRODID:-//www.wwvdn.org//NONSGML kigkonsult.se iCalcreator 2.30.10//
CALSCALE:GREGORIAN
METHOD:PUBLISH
UID:ec30af20-26a7-4d68-99ba-1d082652be1d
X-WR-CALDESC:Join us for SOAR Teens on September 27 from 5:00pm to 6:30pm a
 t Bowlaway Lanes (411 Ash St\, Walla Walla). \nWe are going to STRIKE up s
 ome fun bowling! Bring money for game play ($3.25 per game)\, shoe rental\
 , food\, and beverages for yourself!\n
X-WR-RELCALID:4b93253f6188a813fae335a2ea5863b6
X-WR-TIMEZONE:America/Los_Angeles
BEGIN:VTIMEZONE
TZID:America/Los_Angeles
BEGIN:STANDARD
TZNAME:PST
DTSTART:20211107T020000
TZOFFSETFROM:-0700
TZOFFSETTO:-0800
RDATE:20221106T020000
RDATE:20231105T020000
END:STANDARD
BEGIN:DAYLIGHT
TZNAME:PDT
DTSTART:20220313T020000
TZOFFSETFROM:-0800
TZOFFSETTO:-0700
RDATE:20230312T020000
RDATE:20240310T020000
END:DAYLIGHT
END:VTIMEZONE
BEGIN:VEVENT
UID:63fcd308-002c-4f2b-9813-74377cdbad69
DTSTAMP:20260421T041256Z
DESCRIPTION:Join us for SOAR Teens on September 27 from 5:00pm to 6:30pm at
  Bowlaway Lanes (411 Ash St\, Walla Walla). \nWe are going to STRIKE up so
 me fun bowling! Bring money for game play ($3.25 per game)\, shoe rental\,
  food\, and beverages for yourself!\n
DTSTART;TZID=America/Los_Angeles:20220927T170000
DTEND;TZID=America/Los_Angeles:20220927T183000
LOCATION:Bowlaway Lanes\,  411 Ash St\, Walla Walla
SUMMARY:SOAR Teens: Bowlaway Lanes
END:VEVENT
END:VCALENDAR
