BEGIN:VCALENDAR
VERSION:2.0
PRODID:-//www.wwvdn.org//NONSGML kigkonsult.se iCalcreator 2.30.10//
CALSCALE:GREGORIAN
METHOD:PUBLISH
UID:4ae55676-11c6-4415-a3e5-88566be6c856
X-WR-CALDESC:Enjoy fresh air and companionship with a brisk walk each weekd
 ay morning.\n
X-WR-RELCALID:36a52d467200ebe2cf4cdead63de0f44
X-WR-TIMEZONE:America/Los_Angeles
BEGIN:VTIMEZONE
TZID:America/Los_Angeles
BEGIN:STANDARD
TZNAME:PST
DTSTART:20211107T020000
TZOFFSETFROM:-0700
TZOFFSETTO:-0800
RDATE:20221106T020000
RDATE:20231105T020000
END:STANDARD
BEGIN:DAYLIGHT
TZNAME:PDT
DTSTART:20220313T020000
TZOFFSETFROM:-0800
TZOFFSETTO:-0700
RDATE:20230312T020000
RDATE:20240310T020000
END:DAYLIGHT
END:VTIMEZONE
BEGIN:VEVENT
UID:3d67b46a-e961-4a71-9259-d38b81d60dde
DTSTAMP:20260420T102512Z
DESCRIPTION:Enjoy fresh air and companionship with a brisk walk each weekda
 y morning.\n
DTSTART;TZID=America/Los_Angeles:20220928T073000
DTEND;TZID=America/Los_Angeles:20220928T080000
LOCATION:Murr Park (corner of Abbott & Fern)
SUMMARY:Walk with ME (Mamas Especiales)
END:VEVENT
END:VCALENDAR
