BEGIN:VCALENDAR
VERSION:2.0
PRODID:-//www.wwvdn.org//NONSGML kigkonsult.se iCalcreator 2.30.10//
CALSCALE:GREGORIAN
METHOD:PUBLISH
UID:08d3e01f-6341-4204-a2b0-3324c07e1e88
X-WR-CALDESC:November 2\, 5:00 to 7:00 pm\nDetails: We will meet at the Cen
 ter for Children & Families Library to have a fun evening playing Bingo an
 d snacking on some bagels. There will be a bagel board for participants to
  enjoy and prizes for the Bingo winners.\n\nOther SOAR November Events:\n
 \nNov 8\, 5:00-7:00 pm Movie\, Craft & Caramel Apple Bar Night \n  ~ Detai
 ls: We will meet at the Center for Children & Families and spend the eveni
 ng making a Thanksgiving craft\, watching the movie Free Birds\, and enjoy
 ing a caramel apple bar! Bring a blanket and pillow if you like as we will
  be sitting on the gym floor.\n\nNov 14\, 5:00-7:00 pm Friendsgiving (dead
 line to register is November 9)\n  ~ Details: Join us for our first annual
  Friendsgiving at Trinity Baptist Church (595 Abbott Rd\, Walla Walla). We
  are going to come together as a group and cook dinner together and play a
  game or two!\n\nNov 24\, 8:30-10:00 am Turkey Trot (deadline to register 
 with WWVDN is November 15)\n  ~ NOTE: Please register on the WWVDN page AN
 D the Salvation Army page (Price: $15/person - paid to Salvation Army - if
  you register before Nov 23 on their website: https://give-nw.salvationarm
 y.org/event/the-salvation-army-walla-walla-turkey-trot-2022/e427608 )\n  ~
  Details: Get your gobble til you wobble on! Put a little Thanksgiving fes
 tivity into your outfit and then come join us for a 1-mile walk Thanksgivi
 ng morning! Mill Creek Recreation Trail\n
X-WR-RELCALID:453f4495428bd21b32a54744637420fa
X-WR-TIMEZONE:America/Los_Angeles
BEGIN:VTIMEZONE
TZID:America/Los_Angeles
BEGIN:STANDARD
TZNAME:PST
DTSTART:20211107T020000
TZOFFSETFROM:-0700
TZOFFSETTO:-0800
RDATE:20221106T020000
RDATE:20231105T020000
END:STANDARD
BEGIN:DAYLIGHT
TZNAME:PDT
DTSTART:20220313T020000
TZOFFSETFROM:-0800
TZOFFSETTO:-0700
RDATE:20230312T020000
RDATE:20240310T020000
END:DAYLIGHT
END:VTIMEZONE
BEGIN:VEVENT
UID:365918b1-6752-4ef4-bb67-7c5bb73d4899
DTSTAMP:20260419T190423Z
DESCRIPTION:November 2\, 5:00 to 7:00 pm\nDetails: We will meet at the Cent
 er for Children & Families Library to have a fun evening playing Bingo and
  snacking on some bagels. There will be a bagel board for participants to 
 enjoy and prizes for the Bingo winners.\n\nOther SOAR November Events:\n\n
 Nov 8\, 5:00-7:00 pm Movie\, Craft & Caramel Apple Bar Night \n  ~ Details
 : We will meet at the Center for Children & Families and spend the evening
  making a Thanksgiving craft\, watching the movie Free Birds\, and enjoyin
 g a caramel apple bar! Bring a blanket and pillow if you like as we will b
 e sitting on the gym floor.\n\nNov 14\, 5:00-7:00 pm Friendsgiving (deadli
 ne to register is November 9)\n  ~ Details: Join us for our first annual F
 riendsgiving at Trinity Baptist Church (595 Abbott Rd\, Walla Walla). We a
 re going to come together as a group and cook dinner together and play a g
 ame or two!\n\nNov 24\, 8:30-10:00 am Turkey Trot (deadline to register wi
 th WWVDN is November 15)\n  ~ NOTE: Please register on the WWVDN page AND 
 the Salvation Army page (Price: $15/person - paid to Salvation Army - if y
 ou register before Nov 23 on their website: https://give-nw.salvationarmy.
 org/event/the-salvation-army-walla-walla-turkey-trot-2022/e427608 )\n  ~ D
 etails: Get your gobble til you wobble on! Put a little Thanksgiving festi
 vity into your outfit and then come join us for a 1-mile walk Thanksgiving
  morning! Mill Creek Recreation Trail\n
DTSTART;TZID=America/Los_Angeles:20221102T170000
DTEND;TZID=America/Los_Angeles:20221102T190000
LOCATION:Center for Children & Families\, 1150 W Chestnut St\, Walla Walla
SUMMARY:SOAR Combined (Adults & Teens): BINGO and Bagel Night
END:VEVENT
END:VCALENDAR
