BEGIN:VCALENDAR
VERSION:2.0
PRODID:-//www.wwvdn.org//NONSGML kigkonsult.se iCalcreator 2.30.10//
CALSCALE:GREGORIAN
METHOD:PUBLISH
UID:be844c70-d968-4609-b967-7ef0e9281915
X-WR-CALDESC:The performance on November 9 is for families who may not feel
  comfortable or be able to attend a live performance during a regularly sc
 heduled show. There is absolutely no concern for the cast and crew in rega
 rd to movement\, talking\, sounds\, etc. during this performance. We know 
 that for some families\, those things have been a barrier in their comfort
  level of attending live performance events.\n\nPlease join us for this wo
 nderful performance in WaHi's NEW Black Box Theater\, located in the Music
  Building (behind the Auditorium).\n\nShow is slated to start at 4:00 pm. 
 Full performance runs about 2 hours. Feel free to leave at any time if thi
 s becomes too long for you.\nPlease RSVP (green button above).
X-WR-RELCALID:713d0b3e117c3fbe049171f3d9872090
X-WR-TIMEZONE:America/Los_Angeles
BEGIN:VTIMEZONE
TZID:America/Los_Angeles
BEGIN:STANDARD
TZNAME:PST
DTSTART:20221106T020000
TZOFFSETFROM:-0700
TZOFFSETTO:-0800
RDATE:20231105T020000
END:STANDARD
BEGIN:DAYLIGHT
TZNAME:PDT
DTSTART:20220313T020000
TZOFFSETFROM:-0800
TZOFFSETTO:-0700
RDATE:20230312T020000
RDATE:20240310T020000
END:DAYLIGHT
END:VTIMEZONE
BEGIN:VEVENT
UID:72c23da2-1eff-46e5-a228-921819a19c4b
DTSTAMP:20260423T131630Z
DESCRIPTION:The performance on November 9 is for families who may not feel 
 comfortable or be able to attend a live performance during a regularly sch
 eduled show. There is absolutely no concern for the cast and crew in regar
 d to movement\, talking\, sounds\, etc. during this performance. We know t
 hat for some families\, those things have been a barrier in their comfort 
 level of attending live performance events.\n\nPlease join us for this won
 derful performance in WaHi's NEW Black Box Theater\, located in the Music 
 Building (behind the Auditorium).\n\nShow is slated to start at 4:00 pm. F
 ull performance runs about 2 hours. Feel free to leave at any time if this
  becomes too long for you.\nPlease RSVP (green button above).
DTSTART;TZID=America/Los_Angeles:20221109T160000
DTEND;TZID=America/Los_Angeles:20221109T180000
LOCATION:Walla Walla High School  Black Box Theater
SUMMARY:FREE Special Preview of WaHi's 'Peter and the Starcatcher'
END:VEVENT
END:VCALENDAR
