BEGIN:VCALENDAR
VERSION:2.0
PRODID:-//www.wwvdn.org//NONSGML kigkonsult.se iCalcreator 2.30.10//
CALSCALE:GREGORIAN
METHOD:PUBLISH
UID:032fb857-f04a-4acc-9d87-a932d7184209
X-WR-CALDESC:Parasport Spokane (https://www.parasportspokane.org/) has been
  gracious enough to bring their coaches\, athletes\, and equipment to Wall
 a Walla to help get people with disabilities engaged in sport activities. 
 Their mission is to provide training\, recreational activities\, and compe
 titive opportunities for youth and adults with physical disabilities in or
 der to promote success\, self-worth\, and independence.\n\nThis event is o
 pen to anyone who has a physical disability and is interested in adaptive 
 or parasport activities. All ages and ability levels welcome. Even if full
  participation is not possible due to age or ability level\, we can help p
 roblem-solve and hopefully build towards a solution where we can get peopl
 e moving in a fun and empowering way in the future.
X-WR-RELCALID:03b5064d318ba07a124b6daca448307e
X-WR-TIMEZONE:America/Los_Angeles
BEGIN:VTIMEZONE
TZID:America/Los_Angeles
BEGIN:STANDARD
TZNAME:PST
DTSTART:20221106T020000
TZOFFSETFROM:-0700
TZOFFSETTO:-0800
RDATE:20231105T020000
END:STANDARD
BEGIN:DAYLIGHT
TZNAME:PDT
DTSTART:20220313T020000
TZOFFSETFROM:-0800
TZOFFSETTO:-0700
RDATE:20230312T020000
RDATE:20240310T020000
END:DAYLIGHT
END:VTIMEZONE
BEGIN:VEVENT
UID:cb651350-f8bc-417d-b609-19d574a18d9b
DTSTAMP:20260421T095925Z
DESCRIPTION:Parasport Spokane (https://www.parasportspokane.org/) has been 
 gracious enough to bring their coaches\, athletes\, and equipment to Walla
  Walla to help get people with disabilities engaged in sport activities. T
 heir mission is to provide training\, recreational activities\, and compet
 itive opportunities for youth and adults with physical disabilities in ord
 er to promote success\, self-worth\, and independence.\n\nThis event is op
 en to anyone who has a physical disability and is interested in adaptive o
 r parasport activities. All ages and ability levels welcome. Even if full 
 participation is not possible due to age or ability level\, we can help pr
 oblem-solve and hopefully build towards a solution where we can get people
  moving in a fun and empowering way in the future.
DTSTART;TZID=America/Los_Angeles:20221211T123000
DTEND;TZID=America/Los_Angeles:20221211T153000
LOCATION:Gym at Center for Children & Families\, 1150 W Chestnut St\, Walla
  Walla
SUMMARY:Parasport Wheelchair Basketball
END:VEVENT
END:VCALENDAR
