BEGIN:VCALENDAR
VERSION:2.0
PRODID:-//www.wwvdn.org//NONSGML kigkonsult.se iCalcreator 2.30.10//
CALSCALE:GREGORIAN
METHOD:PUBLISH
UID:76edfb67-17b5-4b49-b4f2-3a4dcf0e9583
X-WR-CALDESC:Join us to see old friends and make new ones.\n
X-WR-RELCALID:dfdd09ae9b179e6c3001969826b8c06b
X-WR-TIMEZONE:America/Los_Angeles
BEGIN:VTIMEZONE
TZID:America/Los_Angeles
BEGIN:STANDARD
TZNAME:PST
DTSTART:20221106T020000
TZOFFSETFROM:-0700
TZOFFSETTO:-0800
RDATE:20231105T020000
END:STANDARD
BEGIN:DAYLIGHT
TZNAME:PDT
DTSTART:20220313T020000
TZOFFSETFROM:-0800
TZOFFSETTO:-0700
RDATE:20230312T020000
RDATE:20240310T020000
END:DAYLIGHT
END:VTIMEZONE
BEGIN:VEVENT
UID:78d2cc05-88ae-4fcf-a4a3-123550c19083
DTSTAMP:20260421T081202Z
DESCRIPTION:Join us to see old friends and make new ones.\n
DTSTART;TZID=America/Los_Angeles:20230127T173000
DTEND;TZID=America/Los_Angeles:20230127T193000
LOCATION:
SUMMARY:Columbia County P2P After Holiday Celebration
END:VEVENT
END:VCALENDAR
