BEGIN:VCALENDAR
VERSION:2.0
PRODID:-//www.wwvdn.org//NONSGML kigkonsult.se iCalcreator 2.30.10//
CALSCALE:GREGORIAN
METHOD:PUBLISH
UID:e2854b14-637d-41ab-9d30-0659ed5e0660
X-WR-CALDESC:Workshop series will meet in person at the Center for Children
  & Families at 6:00 pm.\n\nPlease register (green button above) and indica
 te if you plan to attend in person or virtually over Zoom.
X-WR-RELCALID:2a42937a6dfe5c7c73a811d3b547db0d
X-WR-TIMEZONE:America/Los_Angeles
BEGIN:VTIMEZONE
TZID:America/Los_Angeles
BEGIN:STANDARD
TZNAME:PST
DTSTART:20221106T020000
TZOFFSETFROM:-0700
TZOFFSETTO:-0800
RDATE:20231105T020000
END:STANDARD
BEGIN:DAYLIGHT
TZNAME:PDT
DTSTART:20220313T020000
TZOFFSETFROM:-0800
TZOFFSETTO:-0700
RDATE:20230312T020000
RDATE:20240310T020000
END:DAYLIGHT
END:VTIMEZONE
BEGIN:VEVENT
UID:722b9b0f-cefb-4540-b151-537ef0e0e319
DTSTAMP:20260419T152017Z
DESCRIPTION:Workshop series will meet in person at the Center for Children 
 & Families at 6:00 pm.\n\nPlease register (green button above) and indicat
 e if you plan to attend in person or virtually over Zoom.
DTSTART;TZID=America/Los_Angeles:20230223T180000
DTEND;TZID=America/Los_Angeles:20230223T193000
LOCATION:Center for Children & Families\, 1150 W Chestnut St\, Walla Walla
SUMMARY:Transition Workshop Series: Guardianship\, Power of Attorney\, and 
 Self-Determination
END:VEVENT
END:VCALENDAR
