BEGIN:VCALENDAR
VERSION:2.0
PRODID:-//www.wwvdn.org//NONSGML kigkonsult.se iCalcreator 2.30.10//
CALSCALE:GREGORIAN
METHOD:PUBLISH
UID:45cb7ed0-3a48-4c1b-a7a8-ab6893d68e89
X-WR-CALDESC:To celebrate World Down Syndrome Day!\n\nThe picture you see a
 bove is of chromosomes.\nThe one circled is chromosome 21 – note the three
  copies of the chromosome. This is Trisomy 21 also known as Down syndrome.
  Most people have just two copies of Chromosome 21. People with Down syndr
 ome have 3 copies.\nThey look like socks\, right? This is where the idea o
 f Rock your Socks for World Down Syndrome Day was born!\n\nOn March 21st\,
  World Down Syndrome Day\, we celebrate and raise awareness by wearing our
  brightest\, loudest socks.\nAnd why is WDSD held on March 21st?\n21:3 (ch
 romosome 21\, 3 copies = 21st day of 3rd month of the year)\n\nPlease RSVP
  above (green button). Hope to see you there!
X-WR-RELCALID:c7397f57e11b4989cda43425e7b567e3
X-WR-TIMEZONE:America/Los_Angeles
BEGIN:VTIMEZONE
TZID:America/Los_Angeles
BEGIN:STANDARD
TZNAME:PST
DTSTART:20221106T020000
TZOFFSETFROM:-0700
TZOFFSETTO:-0800
RDATE:20231105T020000
END:STANDARD
BEGIN:DAYLIGHT
TZNAME:PDT
DTSTART:20230312T020000
TZOFFSETFROM:-0800
TZOFFSETTO:-0700
RDATE:20240310T020000
END:DAYLIGHT
END:VTIMEZONE
BEGIN:VEVENT
UID:7c4858f2-23fc-48ed-8160-305d03b11e1d
DTSTAMP:20260419T190628Z
DESCRIPTION:To celebrate World Down Syndrome Day!\n\nThe picture you see ab
 ove is of chromosomes.\nThe one circled is chromosome 21 – note the three 
 copies of the chromosome. This is Trisomy 21 also known as Down syndrome. 
 Most people have just two copies of Chromosome 21. People with Down syndro
 me have 3 copies.\nThey look like socks\, right? This is where the idea of
  Rock your Socks for World Down Syndrome Day was born!\n\nOn March 21st\, 
 World Down Syndrome Day\, we celebrate and raise awareness by wearing our 
 brightest\, loudest socks.\nAnd why is WDSD held on March 21st?\n21:3 (chr
 omosome 21\, 3 copies = 21st day of 3rd month of the year)\n\nPlease RSVP 
 above (green button). Hope to see you there!
DTSTART;TZID=America/Los_Angeles:20230321T170000
DTEND;TZID=America/Los_Angeles:20230321T183000
LOCATION:YMCA\, 340 S Park St\, Walla Walla
SUMMARY:'Rock Your Socks' Party
END:VEVENT
END:VCALENDAR
