BEGIN:VCALENDAR
VERSION:2.0
PRODID:-//www.wwvdn.org//NONSGML kigkonsult.se iCalcreator 2.30.10//
CALSCALE:GREGORIAN
METHOD:PUBLISH
UID:f8403a4c-39ae-4920-b4ec-7958faf65fe2
X-WR-CALDESC:Please register for SOAR Pottery Painting Night by clicking th
 e green button above.\nAll participants must be 13 years or older\, and th
 is event is limited to 15 participants.\nPlease note that those who show u
 p and are NOT registered will be turned away. This is a sitting down event
  where there is no room to be moving around.\nReminder: Registration for a
 ll SOAR events closes at 6:00 pm the Sunday before the event.\n\nTuesday\,
  April 11th - Pottery Painting Night\n(Register BEFORE Sunday\, April  9 a
 t 6:00 pm)\n5:00 pm - 7:00 pm\n\nWe have a very special opportunity to go 
 to the Pottery Painting Studio! \nThis event requires participants to brin
 g money for a pottery piece. Plan about $12 MAX.
X-WR-RELCALID:96094f0a4944f5bcd63f0e1aee59a7d6
X-WR-TIMEZONE:America/Los_Angeles
BEGIN:VTIMEZONE
TZID:America/Los_Angeles
BEGIN:STANDARD
TZNAME:PST
DTSTART:20221106T020000
TZOFFSETFROM:-0700
TZOFFSETTO:-0800
RDATE:20231105T020000
END:STANDARD
BEGIN:DAYLIGHT
TZNAME:PDT
DTSTART:20230312T020000
TZOFFSETFROM:-0800
TZOFFSETTO:-0700
RDATE:20240310T020000
END:DAYLIGHT
END:VTIMEZONE
BEGIN:VEVENT
UID:4447b293-c863-47d7-bd82-d6ccdf627f0f
DTSTAMP:20260421T092358Z
DESCRIPTION:Please register for SOAR Pottery Painting Night by clicking the
  green button above.\nAll participants must be 13 years or older\, and thi
 s event is limited to 15 participants.\nPlease note that those who show up
  and are NOT registered will be turned away. This is a sitting down event 
 where there is no room to be moving around.\nReminder: Registration for al
 l SOAR events closes at 6:00 pm the Sunday before the event.\n\nTuesday\, 
 April 11th - Pottery Painting Night\n(Register BEFORE Sunday\, April  9 at
  6:00 pm)\n5:00 pm - 7:00 pm\n\nWe have a very special opportunity to go t
 o the Pottery Painting Studio! \nThis event requires participants to bring
  money for a pottery piece. Plan about $12 MAX.
DTSTART;TZID=America/Los_Angeles:20230411T170000
DTEND;TZID=America/Los_Angeles:20230411T190000
LOCATION:
SUMMARY:SOAR: Pottery Painting Night (limited to 15 participants)
END:VEVENT
END:VCALENDAR
