BEGIN:VCALENDAR
VERSION:2.0
PRODID:-//www.wwvdn.org//NONSGML kigkonsult.se iCalcreator 2.30.10//
CALSCALE:GREGORIAN
METHOD:PUBLISH
UID:bc9b9585-0c92-46cc-a341-c514f4533268
X-WR-CALDESC:Join us for food\, games\, and other fun activities.\n\nPlease
  RSVP (green button) above. Hope to see you there!\n
X-WR-RELCALID:47dc7940b3e3d4a40c0f7df4df8215c8
X-WR-TIMEZONE:America/Los_Angeles
BEGIN:VTIMEZONE
TZID:America/Los_Angeles
BEGIN:STANDARD
TZNAME:PST
DTSTART:20221106T020000
TZOFFSETFROM:-0700
TZOFFSETTO:-0800
RDATE:20231105T020000
END:STANDARD
BEGIN:DAYLIGHT
TZNAME:PDT
DTSTART:20230312T020000
TZOFFSETFROM:-0800
TZOFFSETTO:-0700
RDATE:20240310T020000
END:DAYLIGHT
END:VTIMEZONE
BEGIN:VEVENT
UID:0d828dd2-ddc4-4a6f-a6b9-19573fd0fc1c
DTSTAMP:20260421T092041Z
DESCRIPTION:Join us for food\, games\, and other fun activities.\n\nPlease 
 RSVP (green button) above. Hope to see you there!\n
DTSTART;TZID=America/Los_Angeles:20230416T140000
DTEND;TZID=America/Los_Angeles:20230416T160000
LOCATION:YMCA\, 340 S Park St\, Walla Walla
SUMMARY:Autism Family Celebration
END:VEVENT
END:VCALENDAR
