BEGIN:VCALENDAR
VERSION:2.0
PRODID:-//www.wwvdn.org//NONSGML kigkonsult.se iCalcreator 2.30.10//
CALSCALE:GREGORIAN
METHOD:PUBLISH
UID:6b3fd104-3a41-4cb7-8128-bff91d72a301
X-WR-CALDESC:Come out to the Mills Creek Sportsplex (111 Tausick Way\, Wall
 a Walla) and cheer for our Adult Co-Ed Softball Team!\nDoubleheader:\n\n6p
 m to 7pm\, Dynamic Devils vs. Full Count at Millcreek field 1\n7pm to 8pm 
 \, Dynamic Devils vs. Comprehensive Comets at Millcreek field 2
X-WR-RELCALID:ab5985640e3c2803177c477cd3e02feb
X-WR-TIMEZONE:America/Los_Angeles
BEGIN:VTIMEZONE
TZID:America/Los_Angeles
BEGIN:STANDARD
TZNAME:PST
DTSTART:20221106T020000
TZOFFSETFROM:-0700
TZOFFSETTO:-0800
RDATE:20231105T020000
RDATE:20241103T020000
END:STANDARD
BEGIN:DAYLIGHT
TZNAME:PDT
DTSTART:20230312T020000
TZOFFSETFROM:-0800
TZOFFSETTO:-0700
RDATE:20240310T020000
END:DAYLIGHT
END:VTIMEZONE
BEGIN:VEVENT
UID:08bf7c8a-860e-4804-a530-2af8bf2a5745
DTSTAMP:20260423T051417Z
DESCRIPTION:Come out to the Mills Creek Sportsplex (111 Tausick Way\, Walla
  Walla) and cheer for our Adult Co-Ed Softball Team!\nDoubleheader:\n\n6pm
  to 7pm\, Dynamic Devils vs. Full Count at Millcreek field 1\n7pm to 8pm \
 , Dynamic Devils vs. Comprehensive Comets at Millcreek field 2
DTSTART;TZID=America/Los_Angeles:20230524T180000
DTEND;TZID=America/Los_Angeles:20230524T200000
LOCATION:
SUMMARY:Dynamic Devils Doubleheader
END:VEVENT
END:VCALENDAR
