BEGIN:VCALENDAR
VERSION:2.0
PRODID:-//www.wwvdn.org//NONSGML kigkonsult.se iCalcreator 2.30.10//
CALSCALE:GREGORIAN
METHOD:PUBLISH
UID:dab3075e-f90c-424a-87d0-c2b21f1bc2db
X-WR-CALDESC:Come out to the Mills Creek Sportsplex (111 Tausick Way\, Wall
 a Walla) and cheer for our Adult Co-Ed Softball Team!\n\n7pm to 8pm \, Dyn
 amic Devils vs. YMCA Base Invaders at Millcreek field 3
X-WR-RELCALID:4e777d090e3995514e7eb433c1b8eaa9
X-WR-TIMEZONE:America/Los_Angeles
BEGIN:VTIMEZONE
TZID:America/Los_Angeles
BEGIN:STANDARD
TZNAME:PST
DTSTART:20221106T020000
TZOFFSETFROM:-0700
TZOFFSETTO:-0800
RDATE:20231105T020000
RDATE:20241103T020000
END:STANDARD
BEGIN:DAYLIGHT
TZNAME:PDT
DTSTART:20230312T020000
TZOFFSETFROM:-0800
TZOFFSETTO:-0700
RDATE:20240310T020000
END:DAYLIGHT
END:VTIMEZONE
BEGIN:VEVENT
UID:c5718436-3f0d-4628-9a0a-5e1662fab8e2
DTSTAMP:20260423T123048Z
DESCRIPTION:Come out to the Mills Creek Sportsplex (111 Tausick Way\, Walla
  Walla) and cheer for our Adult Co-Ed Softball Team!\n\n7pm to 8pm \, Dyna
 mic Devils vs. YMCA Base Invaders at Millcreek field 3
DTSTART;TZID=America/Los_Angeles:20230531T190000
DTEND;TZID=America/Los_Angeles:20230531T200000
LOCATION:
SUMMARY:Dynamic Devils vs. YMCA Base Invaders
END:VEVENT
END:VCALENDAR
